Workbook

Sheet Annex 1_Timetable (Phase_2)
B2: SHER - Sustainable Higher Education and Research in Kosovo
B7: TIMETABLE OF ACTIVITIES (Phase 2)
C8: 2026 | D8: Apr | E8: May | F8: Jun | G8: Jul | H8: Aug | I8: Sep | J8: Oct | K8: Nov | L8: Dec | M8: Jan | N8: Feb
B9: No of Activity | C9: Title of Activity | D9: Month
D10: 1 | E10: 2 | F10: 3 | G10: 4 | H10: 5 | I10: 6 | J10: 7 | K10: 8 | L10: 9 | M10: 10 | N10: 11 | O10: 12 | P10: 13 | Q10: 14 | R10: 15 | S10: 16 | T10: 17 | U10: 18 | V10: 19 | W10: 20 | X10: 21 | Y10: 22 | Z10: 23 | AA10: 24
B27: *add rows if necessary

Sheet Annex 2a_Budget det. (Phase2)
C2: SHER - Sustainable Higher Education and Research in Kosovo
C6: BUDGET BREAKDOWN (2a)
C8: COST DESCRIPTION | G8: TOTAL PROJECT COSTS | K8: Partner | M8: filled out by WUS Austria
C9: Item No. | D9: Type of costs | E9: Description of cost item | F9: Partner number (or accronym) | G9: Name of unit | H9: No. of units | I9: Costs per unit in EUR | J9: TOTAL COSTS in EUR | K9: Partner 1 (Kosovo) | L9: Partner 2 | M9: Amount granted (in EUR)
B10: Staff (External Experts) | C10: A1 | D10: Expert fees | E10: N.N. | G10: work days | J10: =H10*I10 -> 0 | K10: =F55/2 -> 5460.3857 | L10: =F55/2 -> 5460.3857 | M10: =IF(G10="KS",#REF!,"")
C11: A2 | E11: N.N. | G11: work days | J11: =H11*I11 -> 0 | K11: =IF(F11="AT",J11,"") | L11: =IF(F11="KS",J11,"") | M11: =IF(G11="KS",#REF!,"")
C17: A… | G17: ... | J17: =H17*I17 -> 0 | K17: =IF(F17="AT",J17,"") | L17: =IF(F17="KS",J17,"") | M17: =IF(G17="KS",#REF!,"")
C18: A. | D18: Sub-total staff costs | J18: =SUM(J10:J17) -> 0 | K18: =SUM(K10:K17) -> 5460.3857 | L18: =SUM(L10:L17) -> 5460.3857 | M18: =SUM(M10:M17) -> 0
B19: Travel | C19: B1 | D19: travel costs/costs of stay | E19: N.N., destination | G19: travel | J19: =H19*I19 -> 0 | K19: =F56/2 -> 3174.6429 | L19: =F56/2 -> 3174.6429 | M19: =IF(G19="KS",#REF!,"")
C20: B2 | G20: days | J20: =H20*I20 -> 0 | K20: =IF(F20="AT",J20,"") | L20: =IF(F20="KS",J20,"") | M20: =IF(G20="KS",#REF!,"")
C21: B3 | G21: Hotel | J21: =H21*I21 -> 0 | K21: =IF(F21="AT",J21,"") | L21: =IF(F21="KS",J21,"") | M21: =IF(G21="KS",#REF!,"")
G25: visa
C26: B… | G26: ... | K26: =IF(F26="AT",J26,"") | L26: =IF(F26="KS",J26,"") | M26: =IF(G26="KS",#REF!,"")
C27: B. | D27: Sub-total travel costs/costs of stay | J27: =SUM(J19:J26) -> 0 | K27: =SUM(K19:K26) -> 3174.6429 | L27: =SUM(L19:L26) -> 3174.6429 | M27: =SUM(M19:M26) -> 0
B28: Workshops | C28: C1 | D28: Workshop costs | E28: list items | G28: items | J28: =H28*I28 -> 0 | K28: =F57/2 -> 2158.7571 | L28: =F57/2 -> 2158.7571 | M28: =IF(G28="KS",#REF!,"")
C29: C2 | G29: copies | J29: =H29*I29 -> 0 | K29: =IF(F29="AT",J29,"") | L29: =IF(F29="KS",J29,"") | M29: =IF(G29="KS",#REF!,"")
C30: C3
C31: C4
C32: C5
C34: C… | G34: ... | J34: =H34*I34 -> 0 | K34: =IF(F34="AT",J34,"") | L34: =IF(F34="KS",J34,"") | M34: =IF(G34="KS",#REF!,"")
C35: C. | D35: Sub-total workshop costs | J35: =SUM(J28:J34) -> 0 | K35: =SUM(K28:K34) -> 2158.7571 | L35: =SUM(L28:L34) -> 2158.7571 | M35: =SUM(M28:M34) -> 0
B36: Dissemination | C36: E1 | D36: printing/publishing | E36: list items | G36: items | J36: =H36*I36 -> 0 | K36: =F58/2 -> 1269.8571 | L36: =F58/2 -> 1269.8571 | M36: =IF(G36="KS",#REF!,"")
C37: E2 | G37: copies | J37: =H37*I37 -> 0 | K37: =IF(F37="AT",J37,"") | L37: =IF(F37="KS",J37,"") | M37: =IF(G37="KS",#REF!,"")
C38: E3
C39: E4
C41: E… | G41: ... | J41: =H41*I41 -> 0 | K41: =IF(F41="AT",J41,"") | L41: =IF(F41="KS",J41,"") | M41: =IF(G41="KS",#REF!,"")
C42: D. | D42: Sub-total Dissemination | J42: =SUM(J36:J41) -> 0 | K42: =SUM(K36:K41) -> 1269.8571 | L42: =SUM(L36:L41) -> 1269.8571 | M42: =SUM(M36:M41) -> 0
B43: Other | C43: F1 | D43: other costs | E43: list items | G43: months | J43: =H43*I43 -> 0 | K43: =F59/2 -> 634.92857 | L43: =F59/2 -> 634.92857 | M43: =IF(G43="KS",#REF!,"")
C44: F2 | G44: days | J44: =H44*I44 -> 0 | K44: =IF(F44="AT",J44,"") | L44: =IF(F44="KS",J44,"") | M44: =IF(G44="KS",#REF!,"")
C45: F3
C46: F… | G46: items | J46: =H46*I46 -> 0 | K46: =IF(F46="AT",J46,"") | L46: =IF(F46="KS",J46,"") | M46: =IF(G46="KS",#REF!,"")
C47: E. | D47: Sub-total other | J47: =SUM(J43:J46) -> 0 | K47: =SUM(K43:K46) -> 634.92857 | L47: =SUM(L43:L46) -> 634.92857 | M47: =SUM(M43:M46) -> 0
C48: F. | D48: Total direct costs | J48: =J10+J20+J27+J42+J47 -> 0 | K48: =K18+K27+K35+K42+K47 -> 12698.571 | L48: =L18+L27+L35+L42+L47 -> 12698.571 | M48: =M18+M27+M35+M42+M47 -> 0
C49: G. | D49: Overheads (5%) | J49: 0 | K49: =K48*0.05 -> 634.92857 | L49: =L48*0.05 -> 634.92857
C50: TOTAL PROJECT COSTS | J50: =J48+J49 -> 0 | K50: =K48+K49 -> 13333.5 | L50: =L48+L49 -> 13333.5 | M50: =M48+M49 -> 0
K51: Pre-filled numbers are only examples
D53: Example Budget:
D54: Category | E54: Percentage (example) | F54: Amount in EUR
C55: A. | D55: Staff costs (External Expert Fees) | E55: 0.43 | F55: =E55*$F$60 -> 10920.771 | G55: Staff costs (External Expert Fees)
C56: B. | D56: Travel costs | E56: 0.25 | F56: =E56*$F$60 -> 6349.2857 | G56: Travel details should be provided; subsistence costs according to Austrian Reisegebührenvorschriften.
C57: C. | D57: Workshops | E57: 0.17 | F57: =E57*$F$60 -> 4317.5143 | G57: Hospitality costs: in case of a workshop/event one catering, i.e. either lunch or dinner or coffee break per calendar day can be covered by the project budget (more than one are ineligible).
C58: D, | D58: Dissemination | E58: 0.1 | F58: =E58*$F$60 -> 2539.7143 | G58: Costs related to printing, publishing and promotion (incl. electronic format)
C59: E. | D59: Other costs | E59: 0.05 | F59: =E59*$F$60 -> 1269.8571 | G59: Other costs such as translation and interpreter costs, bank fees, office supplies, mailing costs, communications costs directly necessary to the project/partnership. All costs listed here must be fully detailed and justified.
C60: F. | D60: Direct costs | E60: 1 | F60: =F62/1.05 -> 25397.143 | G60: Total direct cost
C61: G. | D61: Overhead | E61: 0.05 | F61: =F60*E61 -> 1269.8571 | G61: 5% Overheads of the eligible costs are admitted. The overhead is intended to cover costs such as administration costs for which it is difficult to provide proof of invoicing.
D62: Total Grant | E62: 1.1 | F62: 26667 | G62: The total grant including the overhead can not exceed 60.0000

Sheet Annex 2b_Budget summary(Phase2)
B2: Item No. | C2: Type of costs | D2: Percentage | E2: Amount requested for partner 1 | F2: Amount requested for partner 2 | G2: Total amount
B3: A. | C3: Staff costs (External Expert Fees) | D3: 0.4 | E3: ='Annex 2a_Budget det. (Phase2)'!K10 -> 5460.3857 | F3: ='Annex 2a_Budget det. (Phase2)'!L10 -> 5460.3857 | G3: =SUM(E3:F3) -> 10920.771
B4: B. | C4: Travel costs | D4: 0.2 | E4: ='Annex 2a_Budget det. (Phase2)'!K19 -> 3174.6429 | F4: ='Annex 2a_Budget det. (Phase2)'!L19 -> 3174.6429 | G4: =SUM(E4:F4) -> 6349.2857
B5: C. | C5: Workshops | D5: 0.15 | E5: ='Annex 2a_Budget det. (Phase2)'!K28 -> 2158.7571 | F5: ='Annex 2a_Budget det. (Phase2)'!L28 -> 2158.7571 | G5: =SUM(E5:F5) -> 4317.5143
B6: D, | C6: Dissemination | D6: 0.05 | E6: ='Annex 2a_Budget det. (Phase2)'!K42 -> 1269.8571 | F6: ='Annex 2a_Budget det. (Phase2)'!L42 -> 1269.8571 | G6: =SUM(E6:F6) -> 2539.7143
B7: E. | C7: Other costs | D7: 0.05 | E7: ='Annex 2a_Budget det. (Phase2)'!K43 -> 634.92857 | F7: ='Annex 2a_Budget det. (Phase2)'!L43 -> 634.92857 | G7: =SUM(E7:F7) -> 1269.8571
B8: F. | C8: Direct costs | D8: 1 | E8: =SUM(E3:E7) -> 12698.571 | F8: =SUM(F3:F7) -> 12698.571 | G8: =SUM(E8:F8) -> 25397.143
B9: G. | C9: Overhead | D9: 0.05 | E9: =E8*$D$9 -> 634.92857 | F9: =F8*$D$9 -> 634.92857 | G9: =SUM(E9:F9) -> 1269.8571
C10: Total Grant | D10: 1.1 | E10: =E8+E9 -> 13333.5 | F10: =F8+F9 -> 13333.5 | G10: =SUM(E10:F10) -> 26667
